BEGIN:VCALENDAR
VERSION:2.0
PRODID:-//ACPC - ECPv6.5.0.1//NONSGML v1.0//EN
CALSCALE:GREGORIAN
METHOD:PUBLISH
X-WR-CALNAME:ACPC
X-ORIGINAL-URL:http://acpc.global
X-WR-CALDESC:Events for ACPC
REFRESH-INTERVAL;VALUE=DURATION:PT1H
X-Robots-Tag:noindex
X-PUBLISHED-TTL:PT1H
BEGIN:VTIMEZONE
TZID:UTC
BEGIN:STANDARD
TZOFFSETFROM:+0000
TZOFFSETTO:+0000
TZNAME:UTC
DTSTART:20240101T000000
END:STANDARD
END:VTIMEZONE
BEGIN:VEVENT
DTSTART;TZID=UTC:20240613T000000
DTEND;TZID=UTC:20240614T000000
DTSTAMP:20260420T105842
CREATED:20240524T183852Z
LAST-MODIFIED:20240604T122712Z
UID:3252-1718236800-1718323200@acpc.global
SUMMARY:ACPCKickoff20224
DESCRIPTION:ACPC kickoff\n“ACPC Kickoff” is the event that marks the start of the programming competition for university students in the Arab and African regions. Students from different countries participate in this event. Its main purpose is to prepare participants by providing them with crucial information about the challenges they’ll face during the competition. This event also allows participants to ask questions and clarify what they have about the competition. “ACPC Kickoff” is a key component in ensuring that all participants are well-prepared before the competition begins\, and it takes place online for each participant individually. This competition is based on certain rules that participants need to follow during the contest:  \n1- This is an individual contest\, so obviously you should solve the problems by yourself without any help! \n2- As it is a contest you are not allowed to use the internet to find solutions\, it will be considered cheating. \n3- You may not ask your coach or any other member for help during the contest. \n4- ACPC Kickoff is non-qualifying contest\, so have fun and use it to learn and practice for the ACPC Contest!  \n5- It is an ONLINE contest so please make sure you have a good internet connection for the two contest days. \n6- The programming language at the contest is Java\, C\, C++ and python.  \n7- You have to attend all of the Online- events from opening to results announcement. \nIf you have any questions please feel free to contact us!
URL:http://acpc.global/event/acpckickoff20224/
LOCATION:Online\, Egypt
CATEGORIES:contest,Practice
ORGANIZER;CN="AAST":MAILTO:compiler@aast.edu
END:VEVENT
END:VCALENDAR